BEGIN:VCALENDAR
VERSION:2.0
PRODID:-//Made in Greer - ECPv6.15.20//NONSGML v1.0//EN
CALSCALE:GREGORIAN
METHOD:PUBLISH
X-WR-CALNAME:Made in Greer
X-ORIGINAL-URL:https://madeingreer.com
X-WR-CALDESC:Events for Made in Greer
REFRESH-INTERVAL;VALUE=DURATION:PT1H
X-Robots-Tag:noindex
X-PUBLISHED-TTL:PT1H
BEGIN:VTIMEZONE
TZID:America/Phoenix
BEGIN:STANDARD
TZOFFSETFROM:-0700
TZOFFSETTO:-0700
TZNAME:MST
DTSTART:20240101T000000
END:STANDARD
END:VTIMEZONE
BEGIN:VEVENT
DTSTART;TZID=America/Phoenix:20250904T110000
DTEND;TZID=America/Phoenix:20250904T130000
DTSTAMP:20260423T130720
CREATED:20250718T021840Z
LAST-MODIFIED:20250718T021840Z
UID:5607-1756983600-1756990800@madeingreer.com
SUMMARY:Alcohol Ink: Intro to NEON Inks  - $30
DESCRIPTION:Tim Holtz and Ranger have recently introduced 8 new NEON colors to the alcohol ink line.  They are formulated to work on dark surfaces as well as white.  In this workshop learn about their unique characteristics and how to make them “shine”.
URL:https://madeingreer.com/event/alcohol-ink-intro-to-neon-inks-30/2025-09-04/
CATEGORIES:Class
END:VEVENT
BEGIN:VEVENT
DTSTART;TZID=America/Phoenix:20250906T110000
DTEND;TZID=America/Phoenix:20250906T140000
DTSTAMP:20260423T130720
CREATED:20250718T021145Z
LAST-MODIFIED:20250919T035547Z
UID:5608-1757156400-1757167200@madeingreer.com
SUMMARY:Mixed Media Zen Doodle Class - $45
DESCRIPTION:Doodling can be a fun and relaxing activity that can calm your mind and take you to the depths of your imagination.  In this class you will learn simple techniques to create a watercolor background\, then turn your imagination loose to see what images emerge.  No previous experience is necessary.  In class we will complete one doodle and have two other backgrounds to take home to continue your practice.
URL:https://madeingreer.com/event/mixed-media-zen-doodle-class-45/2025-09-06/
CATEGORIES:Class
END:VEVENT
BEGIN:VEVENT
DTSTART;TZID=America/Phoenix:20250910T110000
DTEND;TZID=America/Phoenix:20250910T150000
DTSTAMP:20260423T130720
CREATED:20250429T180759Z
LAST-MODIFIED:20260308T035410Z
UID:5610-1757502000-1757516400@madeingreer.com
SUMMARY:Alcohol Ink Class $60
DESCRIPTION:Alcohol ink is fun and somewhat unpredictable. This is one of the reasons that make this ideal for the beginning artist. Come and explore with artist Cheryl Ford techniques that can help you create beautiful abstract images that will be sure to impress your friends and family. In the class 3 to 4 take-home projects are completed…and even more if there is time. Pack a lunch or snack and come prepared to have fun. Classes are from 11am to 3pm. Class limited to 4 students. All materials are included.
URL:https://madeingreer.com/event/alcohol-ink-class-60/2025-09-10/
CATEGORIES:Class
END:VEVENT
BEGIN:VEVENT
DTSTART;TZID=America/Phoenix:20250917T110000
DTEND;TZID=America/Phoenix:20250917T130000
DTSTAMP:20260423T130720
CREATED:20250429T180624Z
LAST-MODIFIED:20260308T035118Z
UID:5612-1758106800-1758114000@madeingreer.com
SUMMARY:Stone Painting Class $25
DESCRIPTION:Painting on stones is a simple and fun activity for kids of all ages. In this class we will focus on easy designs and use acrylic paints and paint pens. In the time allowed for the class students should be able to paint two to three stones.
URL:https://madeingreer.com/event/stone-painting-class-25/2025-09-17/
END:VEVENT
BEGIN:VEVENT
DTSTART;TZID=America/Phoenix:20250919T110000
DTEND;TZID=America/Phoenix:20250919T150000
DTSTAMP:20260423T130720
CREATED:20250429T181156Z
LAST-MODIFIED:20260308T035633Z
UID:5614-1758279600-1758294000@madeingreer.com
SUMMARY:Critter Collage Class Part 1 $85
DESCRIPTION:Create your very own whimsical animal collage. Artist Cheryl Ford will guide you through the techniques she uses when creating her colorful collages. The steps are simple and no previous experience is necessary. If you are unsure about drawing your animal\, Cheryl will have templates for you to use. Because there is drying time between layers\, this class will require two days to complete the project. Each day we will work from 11am to 3pm. All materials will be provided. Pack a lunch or a snack and bring 2 magazines that you are willing to cut up. Come and let your inner artist play with collage. Class size limited to 4 students.
URL:https://madeingreer.com/event/critter-collage-class-part-1-85/2025-09-19/
END:VEVENT
BEGIN:VEVENT
DTSTART;TZID=America/Phoenix:20250920T110000
DTEND;TZID=America/Phoenix:20250920T150000
DTSTAMP:20260423T130720
CREATED:20250429T181254Z
LAST-MODIFIED:20260308T035522Z
UID:5616-1758366000-1758380400@madeingreer.com
SUMMARY:Critter Collage Class Part 2
DESCRIPTION:This is Part 2 of the Critter Collage 2-day class
URL:https://madeingreer.com/event/critter-collage-class-part-2/2025-09-20/
END:VEVENT
BEGIN:VEVENT
DTSTART;TZID=America/Phoenix:20250924T110000
DTEND;TZID=America/Phoenix:20250924T140000
DTSTAMP:20260423T130720
CREATED:20250429T181346Z
LAST-MODIFIED:20250919T034705Z
UID:5618-1758711600-1758722400@madeingreer.com
SUMMARY:Beginning Watercolor Class $45
DESCRIPTION:This watercolor class is designed for the person with little to no watercolor experience. We will start by exploring some basics\, such as types of paper\, brushes and paints. Then we will try techniques like wet on wet\, wet on dry and dry brush. During the class students will create three projects to take home: a bookmark\, greeting card and a matted picture.
URL:https://madeingreer.com/event/beginning-watercolor-class-45/2025-09-24/
CATEGORIES:Class
END:VEVENT
BEGIN:VEVENT
DTSTART;TZID=America/Phoenix:20250927T110000
DTEND;TZID=America/Phoenix:20250927T150000
DTSTAMP:20260423T130720
CREATED:20250429T180759Z
LAST-MODIFIED:20260308T035413Z
UID:5721-1758970800-1758985200@madeingreer.com
SUMMARY:Alcohol Ink Class $60
DESCRIPTION:Alcohol ink is fun and somewhat unpredictable. This is one of the reasons that make this ideal for the beginning artist. Come and explore with artist Cheryl Ford techniques that can help you create beautiful abstract images that will be sure to impress your friends and family. In the class 3 to 4 take-home projects are completed…and even more if there is time. Pack a lunch or snack and come prepared to have fun. Classes are from 11am to 3pm. Class limited to 4 students. All materials are included.
URL:https://madeingreer.com/event/alcohol-ink-class-60/2025-09-27/
CATEGORIES:Class
END:VEVENT
END:VCALENDAR