BEGIN:VCALENDAR
VERSION:2.0
PRODID:-//Made in Greer - ECPv6.15.20//NONSGML v1.0//EN
CALSCALE:GREGORIAN
METHOD:PUBLISH
X-ORIGINAL-URL:https://madeingreer.com
X-WR-CALDESC:Events for Made in Greer
REFRESH-INTERVAL;VALUE=DURATION:PT1H
X-Robots-Tag:noindex
X-PUBLISHED-TTL:PT1H
BEGIN:VTIMEZONE
TZID:America/Phoenix
BEGIN:STANDARD
TZOFFSETFROM:-0700
TZOFFSETTO:-0700
TZNAME:MST
DTSTART:20240101T000000
END:STANDARD
END:VTIMEZONE
BEGIN:VEVENT
DTSTART;TZID=America/Phoenix:20250709T110000
DTEND;TZID=America/Phoenix:20250709T150000
DTSTAMP:20260423T154404
CREATED:20250429T180759Z
LAST-MODIFIED:20260308T035358Z
UID:5209-1752058800-1752073200@madeingreer.com
SUMMARY:Alcohol Ink Class $60
DESCRIPTION:Alcohol ink is fun and somewhat unpredictable. This is one of the reasons that make this ideal for the beginning artist. Come and explore with artist Cheryl Ford techniques that can help you create beautiful abstract images that will be sure to impress your friends and family. In the class 3 to 4 take-home projects are completed…and even more if there is time. Pack a lunch or snack and come prepared to have fun. Classes are from 11am to 3pm. Class limited to 4 students. All materials are included.
URL:https://madeingreer.com/event/alcohol-ink-class-60/2025-07-09/
CATEGORIES:Class
END:VEVENT
BEGIN:VEVENT
DTSTART;TZID=America/Phoenix:20250712T110000
DTEND;TZID=America/Phoenix:20250712T140000
DTSTAMP:20260423T154404
CREATED:20250429T181346Z
LAST-MODIFIED:20250919T034658Z
UID:5227-1752318000-1752328800@madeingreer.com
SUMMARY:Beginning Watercolor Class $45
DESCRIPTION:This watercolor class is designed for the person with little to no watercolor experience. We will start by exploring some basics\, such as types of paper\, brushes and paints. Then we will try techniques like wet on wet\, wet on dry and dry brush. During the class students will create three projects to take home: a bookmark\, greeting card and a matted picture.
URL:https://madeingreer.com/event/beginning-watercolor-class-45/2025-07-12/
CATEGORIES:Class
END:VEVENT
BEGIN:VEVENT
DTSTART;TZID=America/Phoenix:20250723T110000
DTEND;TZID=America/Phoenix:20250723T140000
DTSTAMP:20260423T154404
CREATED:20250429T181346Z
LAST-MODIFIED:20250919T034700Z
UID:5228-1753268400-1753279200@madeingreer.com
SUMMARY:Beginning Watercolor Class $45
DESCRIPTION:This watercolor class is designed for the person with little to no watercolor experience. We will start by exploring some basics\, such as types of paper\, brushes and paints. Then we will try techniques like wet on wet\, wet on dry and dry brush. During the class students will create three projects to take home: a bookmark\, greeting card and a matted picture.
URL:https://madeingreer.com/event/beginning-watercolor-class-45/2025-07-23/
CATEGORIES:Class
END:VEVENT
END:VCALENDAR