BEGIN:VCALENDAR
VERSION:2.0
PRODID:-//Made in Greer - ECPv6.15.20//NONSGML v1.0//EN
CALSCALE:GREGORIAN
METHOD:PUBLISH
X-WR-CALNAME:Made in Greer
X-ORIGINAL-URL:https://madeingreer.com
X-WR-CALDESC:Events for Made in Greer
REFRESH-INTERVAL;VALUE=DURATION:PT1H
X-Robots-Tag:noindex
X-PUBLISHED-TTL:PT1H
BEGIN:VTIMEZONE
TZID:America/Phoenix
BEGIN:STANDARD
TZOFFSETFROM:-0700
TZOFFSETTO:-0700
TZNAME:MST
DTSTART:20250101T000000
END:STANDARD
END:VTIMEZONE
BEGIN:VEVENT
DTSTART;TZID=America/Phoenix:20260424T110000
DTEND;TZID=America/Phoenix:20260424T150000
DTSTAMP:20260423T023512
CREATED:20250429T181156Z
LAST-MODIFIED:20250429T181156Z
UID:5859-1777028400-1777042800@madeingreer.com
SUMMARY:Critter Collage Class Part 1 $85
DESCRIPTION:Create your very own whimsical animal collage. Artist Cheryl Ford will guide you through the techniques she uses when creating her colorful collages. The steps are simple and no previous experience is necessary. If you are unsure about drawing your animal\, Cheryl will have templates for you to use. Because there is drying time between layers\, this class will require two days to complete the project. Each day we will work from 11am to 3pm. All materials will be provided. Pack a lunch or a snack and bring 2 magazines that you are willing to cut up. Come and let your inner artist play with collage. Class size limited to 4 students.
URL:https://madeingreer.com/event/critter-collage-class-part-1-85/2026-04-24/
END:VEVENT
BEGIN:VEVENT
DTSTART;TZID=America/Phoenix:20260425T110000
DTEND;TZID=America/Phoenix:20260425T150000
DTSTAMP:20260423T023512
CREATED:20250429T181254Z
LAST-MODIFIED:20250429T181254Z
UID:5857-1777114800-1777129200@madeingreer.com
SUMMARY:Critter Collage Class Part 2
DESCRIPTION:This is Part 2 of the Critter Collage 2-day class
URL:https://madeingreer.com/event/critter-collage-class-part-2/2026-04-25/
END:VEVENT
END:VCALENDAR