BEGIN:VCALENDAR
VERSION:2.0
PRODID:-//Made in Greer - ECPv6.15.20//NONSGML v1.0//EN
CALSCALE:GREGORIAN
METHOD:PUBLISH
X-WR-CALNAME:Made in Greer
X-ORIGINAL-URL:https://madeingreer.com
X-WR-CALDESC:Events for Made in Greer
REFRESH-INTERVAL;VALUE=DURATION:PT1H
X-Robots-Tag:noindex
X-PUBLISHED-TTL:PT1H
BEGIN:VTIMEZONE
TZID:America/Phoenix
BEGIN:STANDARD
TZOFFSETFROM:-0700
TZOFFSETTO:-0700
TZNAME:MST
DTSTART:20240101T000000
END:STANDARD
END:VTIMEZONE
BEGIN:VEVENT
DTSTART;TZID=America/Phoenix:20260418T110000
DTEND;TZID=America/Phoenix:20260418T130000
DTSTAMP:20260423T075722
CREATED:20250429T180624Z
LAST-MODIFIED:20250429T180624Z
UID:5854-1776510000-1776517200@madeingreer.com
SUMMARY:Stone Painting Class $25
DESCRIPTION:Painting on stones is a simple and fun activity for kids of all ages. In this class we will focus on easy designs and use acrylic paints and paint pens. In the time allowed for the class students should be able to paint two to three stones.
URL:https://madeingreer.com/event/stone-painting-class-25/2026-04-18/
END:VEVENT
BEGIN:VEVENT
DTSTART;TZID=America/Phoenix:20251025T110000
DTEND;TZID=America/Phoenix:20251025T130000
DTSTAMP:20260423T075722
CREATED:20250429T180624Z
LAST-MODIFIED:20260308T035120Z
UID:5718-1761390000-1761397200@madeingreer.com
SUMMARY:Stone Painting Class $25
DESCRIPTION:Painting on stones is a simple and fun activity for kids of all ages. In this class we will focus on easy designs and use acrylic paints and paint pens. In the time allowed for the class students should be able to paint two to three stones.
URL:https://madeingreer.com/event/stone-painting-class-25/2025-10-25/
END:VEVENT
BEGIN:VEVENT
DTSTART;TZID=America/Phoenix:20250917T110000
DTEND;TZID=America/Phoenix:20250917T130000
DTSTAMP:20260423T075722
CREATED:20250429T180624Z
LAST-MODIFIED:20260308T035118Z
UID:5612-1758106800-1758114000@madeingreer.com
SUMMARY:Stone Painting Class $25
DESCRIPTION:Painting on stones is a simple and fun activity for kids of all ages. In this class we will focus on easy designs and use acrylic paints and paint pens. In the time allowed for the class students should be able to paint two to three stones.
URL:https://madeingreer.com/event/stone-painting-class-25/2025-09-17/
END:VEVENT
BEGIN:VEVENT
DTSTART;TZID=America/Phoenix:20250813T110000
DTEND;TZID=America/Phoenix:20250813T130000
DTSTAMP:20260423T075722
CREATED:20250429T180624Z
LAST-MODIFIED:20260308T035116Z
UID:5355-1755082800-1755090000@madeingreer.com
SUMMARY:Stone Painting Class $25
DESCRIPTION:Painting on stones is a simple and fun activity for kids of all ages. In this class we will focus on easy designs and use acrylic paints and paint pens. In the time allowed for the class students should be able to paint two to three stones.
URL:https://madeingreer.com/event/stone-painting-class-25/2025-08-13/
END:VEVENT
BEGIN:VEVENT
DTSTART;TZID=America/Phoenix:20250618T110000
DTEND;TZID=America/Phoenix:20250618T130000
DTSTAMP:20260423T075722
CREATED:20250429T180624Z
LAST-MODIFIED:20260308T035113Z
UID:5207-1750244400-1750251600@madeingreer.com
SUMMARY:Stone Painting Class $25
DESCRIPTION:Painting on stones is a simple and fun activity for kids of all ages. In this class we will focus on easy designs and use acrylic paints and paint pens. In the time allowed for the class students should be able to paint two to three stones.
URL:https://madeingreer.com/event/stone-painting-class-25/2025-06-18/
END:VEVENT
END:VCALENDAR