BEGIN:VCALENDAR
VERSION:2.0
PRODID:-//Made in Greer - ECPv6.15.20//NONSGML v1.0//EN
CALSCALE:GREGORIAN
METHOD:PUBLISH
X-WR-CALNAME:Made in Greer
X-ORIGINAL-URL:https://madeingreer.com
X-WR-CALDESC:Events for Made in Greer
REFRESH-INTERVAL;VALUE=DURATION:PT1H
X-Robots-Tag:noindex
X-PUBLISHED-TTL:PT1H
BEGIN:VTIMEZONE
TZID:America/Phoenix
BEGIN:STANDARD
TZOFFSETFROM:-0700
TZOFFSETTO:-0700
TZNAME:MST
DTSTART:20240101T000000
END:STANDARD
END:VTIMEZONE
BEGIN:VEVENT
DTSTART;TZID=America/Phoenix:20251030T110000
DTEND;TZID=America/Phoenix:20251030T140000
DTSTAMP:20260423T091324
CREATED:20250718T021145Z
LAST-MODIFIED:20250718T021145Z
UID:5720-1761822000-1761832800@madeingreer.com
SUMMARY:Mixed Media Zen Doodle Class - $45
DESCRIPTION:Doodling can be a fun and relaxing activity that can calm your mind and take you to the depths of your imagination.  In this class you will learn simple techniques to create a watercolor background\, then turn your imagination loose to see what images emerge.  No previous experience is necessary.  In class we will complete one doodle and have two other backgrounds to take home to continue your practice.
URL:https://madeingreer.com/event/mixed-media-zen-doodle-class-45/2025-10-30/
CATEGORIES:Class
END:VEVENT
BEGIN:VEVENT
DTSTART;TZID=America/Phoenix:20250906T110000
DTEND;TZID=America/Phoenix:20250906T140000
DTSTAMP:20260423T091324
CREATED:20250718T021145Z
LAST-MODIFIED:20250919T035547Z
UID:5608-1757156400-1757167200@madeingreer.com
SUMMARY:Mixed Media Zen Doodle Class - $45
DESCRIPTION:Doodling can be a fun and relaxing activity that can calm your mind and take you to the depths of your imagination.  In this class you will learn simple techniques to create a watercolor background\, then turn your imagination loose to see what images emerge.  No previous experience is necessary.  In class we will complete one doodle and have two other backgrounds to take home to continue your practice.
URL:https://madeingreer.com/event/mixed-media-zen-doodle-class-45/2025-09-06/
CATEGORIES:Class
END:VEVENT
BEGIN:VEVENT
DTSTART;TZID=America/Phoenix:20250809T110000
DTEND;TZID=America/Phoenix:20250809T140000
DTSTAMP:20260423T091324
CREATED:20250718T021145Z
LAST-MODIFIED:20250919T035542Z
UID:5348-1754737200-1754748000@madeingreer.com
SUMMARY:Mixed Media Zen Doodle Class - $45
DESCRIPTION:Doodling can be a fun and relaxing activity that can calm your mind and take you to the depths of your imagination.  In this class you will learn simple techniques to create a watercolor background\, then turn your imagination loose to see what images emerge.  No previous experience is necessary.  In class we will complete one doodle and have two other backgrounds to take home to continue your practice.
URL:https://madeingreer.com/event/mixed-media-zen-doodle-class-45/2025-08-09/
CATEGORIES:Class
END:VEVENT
END:VCALENDAR