BEGIN:VCALENDAR
VERSION:2.0
PRODID:-//Made in Greer - ECPv6.15.20//NONSGML v1.0//EN
CALSCALE:GREGORIAN
METHOD:PUBLISH
X-WR-CALNAME:Made in Greer
X-ORIGINAL-URL:http://madeingreer.com
X-WR-CALDESC:Events for Made in Greer
REFRESH-INTERVAL;VALUE=DURATION:PT1H
X-Robots-Tag:noindex
X-PUBLISHED-TTL:PT1H
BEGIN:VTIMEZONE
TZID:America/Phoenix
BEGIN:STANDARD
TZOFFSETFROM:-0700
TZOFFSETTO:-0700
TZNAME:MST
DTSTART:20250101T000000
END:STANDARD
END:VTIMEZONE
BEGIN:VEVENT
DTSTART;TZID=America/Phoenix:20260101T100000
DTEND;TZID=America/Phoenix:20260101T160000
DTSTAMP:20260423T184325
CREATED:20251024T213936Z
LAST-MODIFIED:20251025T034335Z
UID:5761-1767261600-1767283200@madeingreer.com
SUMMARY:Classes upon request.  No set schedule 11/1/25 thru 2/28/26
DESCRIPTION:During the Winter classes will be offered upon request. This is a great opportunity to make Art and learn and learn new skills. The shop will be offering the following classes: \nWatercolor         Alcohol Ink          Critter Collage          ZEN Doodle
URL:http://madeingreer.com/event/classes-available-upon-request-no-set-schedule-11-1-25-thru-2-28-26/2026-01-01/
CATEGORIES:Class
END:VEVENT
BEGIN:VEVENT
DTSTART;TZID=America/Phoenix:20260201T100000
DTEND;TZID=America/Phoenix:20260201T160000
DTSTAMP:20260423T184325
CREATED:20251024T213936Z
LAST-MODIFIED:20251025T034337Z
UID:5762-1769940000-1769961600@madeingreer.com
SUMMARY:Classes upon request.  No set schedule 11/1/25 thru 2/28/26
DESCRIPTION:During the Winter classes will be offered upon request. This is a great opportunity to make Art and learn and learn new skills. The shop will be offering the following classes: \nWatercolor         Alcohol Ink          Critter Collage          ZEN Doodle
URL:http://madeingreer.com/event/classes-available-upon-request-no-set-schedule-11-1-25-thru-2-28-26/2026-02-01/
CATEGORIES:Class
END:VEVENT
BEGIN:VEVENT
DTSTART;TZID=America/Phoenix:20260404T110000
DTEND;TZID=America/Phoenix:20260404T150000
DTSTAMP:20260423T184325
CREATED:20250429T180759Z
LAST-MODIFIED:20250429T180759Z
UID:5855-1775300400-1775314800@madeingreer.com
SUMMARY:Alcohol Ink Class $60
DESCRIPTION:Alcohol ink is fun and somewhat unpredictable. This is one of the reasons that make this ideal for the beginning artist. Come and explore with artist Cheryl Ford techniques that can help you create beautiful abstract images that will be sure to impress your friends and family. In the class 3 to 4 take-home projects are completed…and even more if there is time. Pack a lunch or snack and come prepared to have fun. Classes are from 11am to 3pm. Class limited to 4 students. All materials are included.
URL:http://madeingreer.com/event/alcohol-ink-class-60/2026-04-04/
CATEGORIES:Class
END:VEVENT
END:VCALENDAR