BEGIN:VCALENDAR
VERSION:2.0
PRODID:-//Made in Greer - ECPv6.15.20//NONSGML v1.0//EN
CALSCALE:GREGORIAN
METHOD:PUBLISH
X-WR-CALNAME:Made in Greer
X-ORIGINAL-URL:http://madeingreer.com
X-WR-CALDESC:Events for Made in Greer
REFRESH-INTERVAL;VALUE=DURATION:PT1H
X-Robots-Tag:noindex
X-PUBLISHED-TTL:PT1H
BEGIN:VTIMEZONE
TZID:America/Phoenix
BEGIN:STANDARD
TZOFFSETFROM:-0700
TZOFFSETTO:-0700
TZNAME:MST
DTSTART:20240101T000000
END:STANDARD
END:VTIMEZONE
BEGIN:VEVENT
DTSTART;TZID=America/Phoenix:20251003T110000
DTEND;TZID=America/Phoenix:20251003T140000
DTSTAMP:20260423T144020
CREATED:20250429T181346Z
LAST-MODIFIED:20250429T181346Z
UID:5708-1759489200-1759500000@madeingreer.com
SUMMARY:Beginning Watercolor Class $45
DESCRIPTION:This watercolor class is designed for the person with little to no watercolor experience. We will start by exploring some basics\, such as types of paper\, brushes and paints. Then we will try techniques like wet on wet\, wet on dry and dry brush. During the class students will create three projects to take home: a bookmark\, greeting card and a matted picture.
URL:http://madeingreer.com/event/beginning-watercolor-class-45/2025-10-03/
CATEGORIES:Class
END:VEVENT
BEGIN:VEVENT
DTSTART;TZID=America/Phoenix:20251018T110000
DTEND;TZID=America/Phoenix:20251018T150000
DTSTAMP:20260423T144020
CREATED:20250429T180759Z
LAST-MODIFIED:20260308T035415Z
UID:5707-1760785200-1760799600@madeingreer.com
SUMMARY:Alcohol Ink Class $60
DESCRIPTION:Alcohol ink is fun and somewhat unpredictable. This is one of the reasons that make this ideal for the beginning artist. Come and explore with artist Cheryl Ford techniques that can help you create beautiful abstract images that will be sure to impress your friends and family. In the class 3 to 4 take-home projects are completed…and even more if there is time. Pack a lunch or snack and come prepared to have fun. Classes are from 11am to 3pm. Class limited to 4 students. All materials are included.
URL:http://madeingreer.com/event/alcohol-ink-class-60/2025-10-18/
CATEGORIES:Class
END:VEVENT
BEGIN:VEVENT
DTSTART;TZID=America/Phoenix:20251030T110000
DTEND;TZID=America/Phoenix:20251030T140000
DTSTAMP:20260423T144020
CREATED:20250718T021145Z
LAST-MODIFIED:20250718T021145Z
UID:5720-1761822000-1761832800@madeingreer.com
SUMMARY:Mixed Media Zen Doodle Class - $45
DESCRIPTION:Doodling can be a fun and relaxing activity that can calm your mind and take you to the depths of your imagination.  In this class you will learn simple techniques to create a watercolor background\, then turn your imagination loose to see what images emerge.  No previous experience is necessary.  In class we will complete one doodle and have two other backgrounds to take home to continue your practice.
URL:http://madeingreer.com/event/mixed-media-zen-doodle-class-45/2025-10-30/
CATEGORIES:Class
END:VEVENT
END:VCALENDAR